BEGIN:VCALENDAR
VERSION:2.0
PRODID:-//Historic Denver  - ECPv5.3.2.1//NONSGML v1.0//EN
CALSCALE:GREGORIAN
METHOD:PUBLISH
X-WR-CALNAME:Historic Denver 
X-ORIGINAL-URL:https://historicdenver.org
X-WR-CALDESC:Events for Historic Denver 
BEGIN:VTIMEZONE
TZID:UTC
BEGIN:STANDARD
TZOFFSETFROM:+0000
TZOFFSETTO:+0000
TZNAME:UTC
DTSTART:20220101T000000
END:STANDARD
END:VTIMEZONE
BEGIN:VEVENT
DTSTART;TZID=UTC:20220209T190000
DTEND;TZID=UTC:20220209T203000
DTSTAMP:20220122T153319
CREATED:20220103T173142Z
LAST-MODIFIED:20220103T173142Z
UID:8865-1644433200-1644438600@historicdenver.org
SUMMARY:Empowered By Place: Julia Greeley's Denver
DESCRIPTION:Join us as we explore Julia Greeley’s Denver. Known as Denver’s Angel of Charity\, Greeley came to Denver in the 1870s and was known for her charity and pious faith. Our guest speaker will be Fr. Blaine Burkey\, author of the Life and Virtues of Julia Greeley\, and currently working with Rome to canonize Julia Greeley. In addition to our virtual program\, we will walk through Julia Greeley’s Denver\, visiting key sites\, on February 12th at 3:30pm. Join us for one or both parts of this fascinating program.  
URL:https://historicdenver.org/event/empowered-by-place-julia-greeleys-denver/
END:VEVENT
BEGIN:VEVENT
DTSTART;TZID=UTC:20220217T190000
DTEND;TZID=UTC:20220217T200000
DTSTAMP:20220122T153319
CREATED:20220103T173457Z
LAST-MODIFIED:20220103T173457Z
UID:8867-1645124400-1645128000@historicdenver.org
SUMMARY:Art on Penn: Let’s Create! 
DESCRIPTION:Join us for an evening of fun art instruction. This virtual program will guide you to create a unique painting. By the end of the night\, you will have fun creating and love the art you have created!   \nClass only: $15/non-members\, $12/members  \nClass + Kit: $30/non-members\, $27/members  
URL:https://historicdenver.org/event/art-on-penn-lets-create/
LOCATION:This event will be hosted virtually.
END:VEVENT
BEGIN:VEVENT
DTSTART;TZID=UTC:20220302T180000
DTEND;TZID=UTC:20220302T193000
DTSTAMP:20220122T153319
CREATED:20220103T174149Z
LAST-MODIFIED:20220103T174149Z
UID:8869-1646244000-1646249400@historicdenver.org
SUMMARY:Salon Series/Women's History Month: IWD's #Break the Bias
DESCRIPTION:For International Women’s Day 2022 the theme is #Break the Bias. Together we will unpack “bias” to discuss the ways that each of us can break gendered bias within our communities. Together we will imagine a gender equal world free of bias and discrimination\, where difference is valued and celebrated regardless of gender identity. \nJoin us in 2022 for the Molly Brown House Museum’s Salon Series! The Salon Series is a FREE community conversation hosted by museum staff and community advocates to discuss current issues regarding gender rights. Using the story of Margaret Brown and looking back into history\, together we will discover how we’ve arrived at this moment and what we might do collectively to address issues. While this series is free\, you must register to attend.
URL:https://historicdenver.org/event/salon-series-womens-history-month-iwds-break-the-bias/
LOCATION:Molly Brown House Museum\, 1340 Pennsylvania Street\, Denver\, CO\, 80203\, United States
END:VEVENT
BEGIN:VEVENT
DTSTART;TZID=UTC:20220310T184500
DTEND;TZID=UTC:20220310T184500
DTSTAMP:20220122T153319
CREATED:20220103T174831Z
LAST-MODIFIED:20220103T174831Z
UID:8871-1646937900-1646937900@historicdenver.org
SUMMARY:1340 Penn
DESCRIPTION:It’s 1:20 am April 15\, 1912. You are locked in the bowels of the ship with your fellow 3rd class passengers as the Titanic begins its descent into the ocean. Can you solve the puzzles to travel from deck to deck and get on a lifeboat before the ship becomes fully submerged?\nThis will be an in-person event lasting approximately one hour. Entry every 15 minutes starting at 6pm\, last entry at 8pm. Max 6 people per entry time. \nMargaret’s 1340 Penn/After Hours are filled with chilling tales and taboo topics! From sassy suffragists to soulful spirits\, see 1340 Penn in a whole new light
URL:https://historicdenver.org/event/1340-penn-2/
LOCATION:Molly Brown House Museum\, 1340 Pennsylvania Street\, Denver\, CO\, 80203\, United States
END:VEVENT
BEGIN:VEVENT
DTSTART;TZID=UTC:20220317T190000
DTEND;TZID=UTC:20220317T200000
DTSTAMP:20220122T153319
CREATED:20220103T175049Z
LAST-MODIFIED:20220103T175049Z
UID:8873-1647543600-1647547200@historicdenver.org
SUMMARY:Art on Penn: A Closer View
DESCRIPTION:Our program has its roots in Margaret’s love of art and The Parisian Salon.  Join us for an informal and intimate gallery talk\, highlighting the art of the Molly Brown House Museum. Hear from experts and artists and then create your own beautiful piece of art\, inspired by the program.  A take away project with artist instruction will be included. Our talk will provide context for the featured art but also present points of departure for a deeper dive.   \nVirtual participants:  \nClass only: $15/non-members\, $12/members  \nClass + Kit: $30/non-members\, $24/members   \nIn-person:  \nClass + Kit: $25/non-members\, $20/members 
URL:https://historicdenver.org/event/art-on-penn-a-closer-view/
END:VEVENT
BEGIN:VEVENT
DTSTART;TZID=UTC:20220427T120000
DTEND;TZID=UTC:20220427T163000
DTSTAMP:20220122T153319
CREATED:20220103T180017Z
LAST-MODIFIED:20220103T180017Z
UID:8876-1651060800-1651077000@historicdenver.org
SUMMARY:Realtor Seminar: Understanding and Selling Historic Homes
DESCRIPTION:Our popular Realtor Seminar\, Understanding and Selling Historic Homes\, will be offered once again on Wednesday\, April 27\, from 12 to 4:30pm. This 3 credit course covers 150 years of Denver Architecture\, an exploration of the various types of historic protections\, maintenance pointers and sales tips. We are offering the course digitally\, in order to join us and receive all 3 of the education credits you must have video capability\, and remain present for the entirety of course.
URL:https://historicdenver.org/event/realtor-seminar-understanding-and-selling-historic-homes/
LOCATION:This event will be hosted virtually.
END:VEVENT
END:VCALENDAR